{"text_format":"1","workbook":"xlsx","n_sheets":1,"sheets":["ИТФ"],"not_rendered":{"charts":0,"images":0,"macros":1,"external_links":0,"defined_names":2,"comments":0,"pivot_tables":0},"unopened":[],"bounds":{"document_bytes":16777216,"sheet_cells":100000,"rows_first":2000,"rows_last":500,"rows_between":2000,"halvings":0,"cell_chars":16384,"cell_head_chars":4096},"cells_cut":0,"cells_raw":0,"read":"whole","date_system":"1900"}

{"sheet":"ИТФ","index":0,"n_rows":111,"n_cols":329,"rows_kept":111,"cut":false,"hidden":false,"merged":[[15,22,15,25],[37,22,37,25],[47,22,47,25],[49,4,49,7],[50,10,50,15],[0,16,0,21],[101,19,101,22],[75,22,75,25],[76,22,76,25],[77,22,77,25],[78,22,78,25],[79,22,79,25],[84,16,84,19],[85,16,85,19],[55,16,55,19],[60,16,60,19],[61,16,61,19],[62,16,62,19],[63,16,63,19],[68,16,68,19],[47,16,47,19],[63,22,63,25],[49,16,49,19],[57,16,57,19],[53,22,53,25],[54,16,54,19],[62,22,62,25],[64,22,64,25],[66,22,66,25],[58,16,58,19],[84,4,84,7],[84,10,84,13],[85,4,85,7],[76,10,76,13],[77,10,77,13],[78,10,78,13],[74,16,74,19],[73,4,73,7],[90,4,90,7],[90,10,90,13],[60,4,60,7],[56,10,56,13],[57,10,57,13],[54,4,54,7],[55,4,55,7],[54,10,54,13],[55,10,55,13],[64,4,64,7],[85,10,85,13],[83,4,83,7],[70,10,70,13],[67,10,67,13],[62,4,62,7],[61,4,61,7],[62,10,62,13],[63,10,63,13],[64,10,64,13],[65,10,65,13],[70,4,70,7],[79,10,79,13],[86,4,86,7],[87,4,87,7],[12,28,12,31],[13,28,13,31],[87,28,87,31],[88,28,88,31],[89,28,89,31],[83,28,83,31],[63,28,63,31],[84,28,84,31],[85,28,85,31],[73,28,73,31],[74,28,74,31],[75,28,75,31],[72,28,72,31],[76,28,76,31],[77,28,77,31],[78,28,78,31],[79,28,79,31],[81,28,81,31],[48,28,48,31],[26,28,26,31],[39,28,41,33],[49,28,49,31],[22,28,22,31],[23,28,23,31],[22,22,22,25],[23,22,23,25],[24,22,24,25],[25,22,25,25],[26,22,26,25],[27,22,27,25],[28,22,28,25],[29,22,29,25],[36,16,36,19],[36,22,36,25],[22,16,22,19],[11,28,11,31],[84,2,85,2],[38,2,39,2],[40,2,41,2],[43,10,43,13],[38,10,38,13],[39,10,39,13],[43,16,43,19],[68,10,68,13],[62,2,63,2],[44,10,44,13],[45,10,45,13],[50,4,50,7],[46,2,47,2],[64,2,65,2],[66,10,66,13],[27,28,27,31],[17,28,17,31],[36,28,37,33],[43,28,44,33],[25,16,25,19],[27,16,27,19],[20,22,20,25],[21,22,21,25],[58,2,59,2],[60,2,61,2],[66,2,67,2],[56,2,57,2],[56,4,56,7],[45,4,45,7],[70,2,71,2],[58,28,58,31],[59,10,59,13],[52,10,52,13],[59,28,59,31],[54,22,54,25],[56,16,56,19],[51,22,51,25],[52,16,52,19],[50,28,50,31],[52,28,52,31],[52,22,52,25],[68,2,69,2],[67,4,67,7],[63,4,63,7],[45,22,45,25],[46,22,46,25],[50,22,50,25],[10,2,11,2],[6,2,7,2],[8,2,9,2],[34,2,35,2],[26,2,27,2],[34,4,34,7],[35,4,35,7],[52,2,53,2],[54,2,55,2],[18,2,19,2],[22,2,23,2],[24,2,25,2],[12,2,13,2],[16,2,17,2],[14,2,15,2],[20,2,21,2],[28,2,29,2],[43,4,43,7],[29,4,29,7],[15,10,15,13],[16,4,16,7],[17,4,17,7],[0,1,0,3],[1,1,1,3],[4,1,19,1],[20,1,35,1],[36,4,36,7],[42,4,42,7],[36,10,36,13],[30,4,30,7],[30,2,31,2],[32,2,33,2],[22,4,22,7],[22,10,22,13],[23,4,23,7],[23,10,23,13],[24,4,24,7],[24,10,24,13],[2,1,2,3],[25,4,25,7],[25,10,25,13],[31,4,31,7],[28,4,28,7],[4,2,5,2],[50,2,51,2],[42,2,43,2],[36,2,37,2],[44,2,45,2],[48,2,49,2],[42,10,42,13],[39,4,39,7],[51,16,51,19],[46,10,46,13],[44,4,44,7],[51,10,51,15],[44,16,44,19],[50,16,50,19],[48,16,48,19],[26,10,26,13],[27,10,27,13],[48,10,48,13],[29,10,29,13],[45,16,45,19],[23,16,23,19],[24,16,24,19],[21,16,21,19],[26,16,26,19],[40,22,40,25],[40,16,40,19],[37,10,37,13],[29,28,29,31],[28,28,28,31],[30,28,30,31],[31,28,31,31],[44,22,44,25],[39,22,39,25],[41,16,41,19],[42,16,42,19],[46,16,46,19],[37,16,37,19],[31,10,31,13],[40,10,40,13],[58,10,58,13],[57,4,57,7],[66,4,66,7],[47,10,47,13],[49,10,49,13],[41,10,41,13],[37,4,37,7],[38,4,38,7],[53,4,53,7],[53,10,53,13],[52,4,52,7],[59,16,59,19],[20,16,20,19],[93,4,93,7],[94,4,94,7],[95,4,95,7],[68,1,83,1],[38,22,38,25],[39,16,39,19],[53,16,53,19],[71,4,71,7],[72,4,72,7],[71,10,71,13],[69,10,69,13],[65,4,65,7],[43,22,43,25],[38,16,38,19],[41,22,41,25],[51,4,51,7],[48,4,48,7],[36,1,51,1],[52,1,67,1],[74,2,75,2],[76,2,77,2],[82,2,83,2],[72,2,73,2],[14,10,14,13],[13,16,13,19],[12,4,12,7],[96,1,99,1],[84,1,95,1],[78,4,78,7],[79,4,79,7],[76,4,76,7],[77,4,77,7],[88,2,89,2],[90,2,91,2],[92,2,93,2],[94,2,95,2],[96,2,97,2],[81,4,81,7],[82,4,82,7],[98,2,99,2],[78,2,79,2],[80,4,80,7],[86,2,87,2],[80,2,81,2],[91,4,91,7],[92,4,92,7],[92,10,92,13],[93,10,93,13],[94,10,94,13],[95,10,95,13],[91,10,91,13],[59,22,59,25],[69,16,69,19],[73,16,73,19],[83,10,83,13],[80,10,80,13],[81,10,81,13],[88,16,88,19],[89,16,89,19],[88,10,88,13],[89,10,89,13],[86,16,86,19],[87,16,87,19],[86,10,86,13],[70,16,70,19],[71,16,71,19],[72,10,72,13],[73,10,73,13],[87,10,87,13],[75,16,75,19],[67,22,67,25],[95,28,95,31],[88,22,90,27],[92,22,93,27],[94,28,94,31],[91,28,91,31],[92,28,92,31],[93,28,93,31],[90,28,90,31],[70,22,70,25],[71,22,71,25],[74,22,74,25],[72,22,72,25],[80,28,80,31],[85,22,86,27],[82,28,82,31],[86,28,86,31],[25,28,25,31],[15,28,15,31],[16,28,16,31],[14,28,14,31],[72,16,72,19],[73,22,73,25],[61,22,61,25],[60,22,60,25],[69,22,69,25],[68,22,68,25],[65,22,65,25],[67,28,67,31],[68,28,68,31],[69,28,69,31],[70,28,70,31],[71,28,71,31],[65,28,65,31],[66,28,66,31],[55,22,55,25],[58,22,58,25],[42,22,42,25],[33,28,33,31],[49,22,49,25],[48,22,48,25],[11,22,11,25],[13,22,13,25],[6,22,6,25],[6,4,6,7],[3,22,3,27],[3,16,3,21],[4,22,4,25],[9,4,9,7],[5,10,5,13],[6,10,6,13],[7,10,7,13],[8,4,8,7],[4,16,4,19],[5,16,5,19],[5,22,5,25],[6,16,6,19],[8,22,8,25],[9,22,9,25],[12,16,12,19],[0,28,0,33],[57,22,57,25],[10,4,10,7],[11,4,11,7],[11,16,11,19],[10,16,10,19],[10,22,10,25],[8,16,8,19],[3,10,3,15],[3,4,3,9],[12,10,12,13],[18,4,18,7],[19,4,19,7],[13,4,13,7],[15,4,15,7],[56,22,56,25],[4,10,4,13],[7,22,7,25],[7,4,7,7],[9,10,9,13],[9,16,9,19],[7,16,7,19],[8,10,8,13],[12,22,12,25],[2,28,2,34],[46,28,46,31],[60,28,60,31],[61,28,61,31],[62,28,62,31],[55,28,55,31],[56,28,56,31],[4,28,4,31],[5,28,5,31],[6,28,6,31],[7,28,7,31],[8,28,8,31],[9,28,9,31],[54,28,54,31],[47,28,47,31],[51,28,51,31],[53,28,53,31],[10,28,10,31],[57,28,57,31],[20,34,20,36],[3,28,3,33],[20,28,20,31],[21,28,21,31],[24,28,24,31]]}
[null,"\"УТВЕРЖДАЮ\"",null,null,null,null,null,null,null,null,null,null,null,null,null,null,"РАСПИСАНИЕ ЗАНЯТИЙ",null,null,null,null,null,null,null,null,null,null,null,"РАСПИСАНИЕ ЗАНЯТИЙ"]
[null,"Ректор университета",null,null,null,null,null,null,null,null,null,null,null,null,null,null,"                        студентов  учреждения образования \"Белорусский государственный университет пищевых",null,null,null,null,null,null,null,null,null,null,null,"                        студентов 5 КУРСА учреждения образования \"Белорусский государственный университет пищевых"]
[null," ___________КИРКОР М.А. 01.08.2022",null,null,null,null,null,null,null,null,null,null,null,null,null,null,"и химических технологий\" инженерно-технологического факультета на  2022/2023 учебный год"]
[null,null,null,null,"ПД-221",null,null,null,null,null,"ПД-211",null,null,null,null,null,"ПД-201",null,null,null,null,null,"ПД-191"]
[null,"ПОНЕДЕЛЬНИК",1,"числ.",null,null,null,"Общая и неорг.химия, лб.","Микулинич М.Л.","318-2",null,null,null,null,null,null,null,null,null,null,null,null,"Локальный мониторинг, лк.",null,null,null,"Липская Д.А.","2-ст."]
[null,null,null,"зн.",null,null,null,"Общая и неорг.химия, лб.","Микулинич М.Л.","318-2",null,null,null,null,null,null,null,null,null,null,null,null,"Локальный мониторинг, лк.",null,null,null,"Липская Д.А.","2-ст."]
[null,null,2,"числ.","Физическая культура",null,null,null,null,null,null,null,null,null,null,null,"Инженерные методы охраны атмосферного воздуха, лк.",null,null,null,"Гапеева Т.М.","603-2","Локальный мониторинг, пр.",null,null,null,"Липская Д.А.","2-ст."]
[null,null,null,"зн.","Физическая культура",null,null,null,null,null,null,null,null,null,null,null,"Инженерные методы охраны атмосферного воздуха, лк.",null,null,null,"Гапеева Т.М.","603-2","Локальный мониторинг, пр.",null,null,null,"Липская Д.А.","2-ст."]
[null,null,3,"числ.","Социальные аспекты адаптации студентов в УВО, лк.",null,null,null,null,"10-ст.","Физическая культура",null,null,null,null,null,"Инженерные методы охраны атмосферного воздуха, пр.",null,null,null,"Гапеева Т.М.","603-2","Технология молочной промышленности, лб.",null,null,null,"Павлистова Н.А.","506-2"]
[null,null,null,"зн.","Социальные аспекты адаптации студентов в УВО, пр.",null,null,null,null,"10-ст.","Физическая культура",null,null,null,null,null,"Инженерные методы охраны атмосферного воздуха, пр.",null,null,null,"Гапеева Т.М.","603-2"]
[null,null,4,"числ.",null,null,null,null,null,null,"Философия, лк. (1-10 н.)","Юдин В.В.","413-1","Основы псих. и пед., лк. (11-16 н.)","Грибановский С.П.","413-1","Физическая культура",null,null,null,null,null,"Технология молочной промышленности, лб.",null,null,null,"Павлистова Н.А.","506-2"]
[null,null,null,"зн.","Механика. Термодинамика и молекулярная физика, пр.",null,null,null,"Каранчук Д.Я.","414-1","Философия, лк. (1-10 н.)","Юдин В.В.","413-1"," Основы псих. и пед., лк. (11-16 н.)","Грибановский С.П.","413-1","Физическая культура"]
[null,null,5,"числ.",null,null,null,null,null,null,"Почвоведение и основы экологии почв,пр.",null,null,null,"Липская Д.А.","2-ст."]
[null,null,null,"зн.",null,null,null,null,null,null,null,null,null,"Деловой иностранный язык, пр.(нем.)","Пайкина А.Р.","311-1"]
[null,null,6,"числ."]
[null,null,null,"зн."]
[null,null,7,"числ."]
[null,null,null,"зн."]
[null,null,8,"числ."]
[null,null,null,"зн."]
[null,"ВТОРНИК",1,"числ.","Общая и неорг.химия, лб.","Микулинич М.Л.","318-2",null,null,null,"Философия, пр. (1-9 н.)","Юдин В.В.","401-1"," Основы псих. и пед., пр. (10-16 н.)","Грибановский С.П.","401-1"]
[null,null,null,"зн.","Общая и неорг.химия, лб.","Микулинич М.Л.","318-2",null,null,null,"Философия, пр. (1-9 н.)","Юдин В.В.","401-1"," Основы псих. и пед., пр. (10-16 н.)","Грибановский С.П.","401-1","Общая технология бродильных производств, лб. (с 20.09)",null,null,null,"Назарова Ю.С.","215-2"]
[null,null,2,"числ.","История белорусского государства, лк.",null,null,null,"Пушкин И.А.","132-2","Экологическая токсикология, лк.",null,null,null,"Картель Н.В.","305а-2","Экология предприятия, пр.",null,null,null,"Баитова С.Н.","2-ст.","Охрана труда на ППП, лб.",null,null,null,"Акулова И.В.","218-2"]
[null,null,null,"зн.","История белорусского государства, лк.",null,null,null,"Пушкин И.А.","132-2","Экологическая токсикология, лк.",null,null,null,"Картель Н.В.","305а-2","Общая технология бродильных производств, лб. (с 20.09)",null,null,null,"Назарова Ю.С.","215-2","Технология мясной промышленности, лб.",null,null,null,"Березнева Т.В.","511-2"]
[null,null,3,"числ.","Математический анализ, лк.",null,null,null,"Гребенцов Ю.М.","305а-2","Технологии основных производств, лк.",null,null,null,"Прохорцова Т.В.","110-2","Технология хлебопекарного, макаронного и КП, лк.",null,null,null,"Нелюбина Е.В.","ц.4-2","Этика и психология деловых отношений, пр.",null,null,null,"Грибановский С.П.","1-ст."]
[null,null,null,"зн.","Математический анализ, лк.",null,null,null,"Гребенцов Ю.М.","305а-2","Технологии основных производств, лк.",null,null,null,"Прохорцова Т.В.","110-2","Технология хлебопекарного, макаронного и КП, лк.",null,null,null,"Нелюбина Е.В.","ц.4-2","Технология мясной промышленности, лб.",null,null,null,"Березнева Т.В.","511-2"]
[null,null,4,"числ.","Иностранный язык, пр. ","Романова Н.Г.","315-1","Иностранный язык, пр. ","Березнева О.Л.","122-1","Технологии основных производств, пр.",null,null,null,"Прохорцова Т.В.","110-2",null,null,null,null,null,null,"Технология мясной промышленности, лк.",null,null,null,"Березнева Т.В.","511-2"]
[null,null,null,"зн.","Иностранный язык, пр.","Романова Н.Г.","315-1","Иностранный язык, пр.","Березнева О.Л.","122-1","Почвоведение и основы экологии почв,лб.",null,null,null,"Липская Д.А.","218-2",null,null,null,null,null,null,"Технология мясной промышленности, лк.",null,null,null,"Березнева Т.В.","511-2"]
[null,null,5,"числ.","Общая и неорганическая химия, лк.",null,null,null,"Микулинич М.Л.","ц.5-2",null,null,null,null,null,null,null,null,null,null,null,null,"Технология молочной промышленности, пр. (1-8 н.)",null,null,null,"Павлистова Н.А.","125-2"]
[null,null,null,"зн.","Общая и неорганическая химия, лк.",null,null,null,"Микулинич М.Л.","ц.5-2","Почвоведение и основы экологии почв,лб.",null,null,null,"Липская Д.А.","218-2",null,null,null,null,null,null,"Технология молочной промышленности, пр. (1-8 н.)",null,null,null,"Павлистова Н.А.","125-2"]
[null,null,6,"числ."]
[null,null,null,"зн.",null,null,null,null,null,null,"Почвоведение и основы экологии почв,лб.",null,null,null,"Липская Д.А.","218-2"]
[null,null,7,"числ."]
[null,null,null,"зн."]
[null,null,8,"числ."]
[null,null,null,"зн."]
[null,"СРЕДА",1,"числ.",null,null,null,null,null,null,"Почвоведение и основы экологии почв,лк.",null,null,null,"Липская Д.А.","603-2"]
[null,null,null,"зн.",null,null,null,null,null,null,"Почвоведение и основы экологии почв,лк.",null,null,null,"Липская Д.А.","603-2"]
[null,null,2,"числ.",null,null,null,null,null,null,"Правовые основы охраны окружающей среды,пр.",null,null,null,"Крюковская Т.В.","2-ст.","Основы и системы менеджмента, пр.",null,null,null,"Картель Н.В.","305а-2"]
[null,null,null,"зн.",null,null,null,null,null,null,"Правовые основы охраны окружающей среды,пр.",null,null,null,"Крюковская Т.В.","2-ст.","Основы и системы менеджмента, пр.",null,null,null,"Картель Н.В.","305а-2"]
[null,null,3,"числ.","Иностранный язык, пр.","Романова Н.Г.","320-1",null,null,null,"Технология муки, крупы и комбикормов, пр.",null,null,null,"Косцова И.С.","110-2","Природоохранное законодательство, лк.",null,null,null,"Крюковская Т.В.","2-ст."]
[null,null,null,"зн.",null,null,null,null,null,null,"Технология муки, крупы и комбикормов, лк.",null,null,null,"Косцова И.С.","110-2","Природоохранное законодательство, лк.",null,null,null,"Крюковская Т.В.","2-ст."]
[null,null,4,"числ.","Биология, лк.",null,null,null,"Липская Д.А.","618-2","Технология муки, крупы и комбикормов, лб.",null,null,null,"Косцова И.С.","114-2","Природоохранное законодательство, пр.",null,null,null,"Крюковская Т.В.","2-ст.","Обращение с отходами, лк.",null,null,null,"Гапеева Т.М.","603-2"]
[null,null,null,"зн.","Биология, лк.",null,null,null,"Липская Д.А.","618-2",null,null,null,null,null,null,"Природоохранное законодательство, пр.",null,null,null,"Крюковская Т.В.","2-ст.","Обращение с отходами, лк.",null,null,null,"Гапеева Т.М.","603-2"]
[null,null,5,"числ.","Математический анализ, пр.",null,null,null,"Гребенцов Ю.М.","317-1","Технология муки, крупы и комбикормов, лб.",null,null,null,"Косцова И.С.","114-2","Общая технология бродильных производств, лк.",null,null,null,"Назарова Ю.С.","215-2","Оценка воздействия на окружающую среду, лк.",null,null,null,"Крюковская Т.В.","603-2"]
[null,null,null,"зн.","Математический анализ, пр.",null,null,null,"Гребенцов Ю.М.","317-1",null,null,null,null,null,null,"Общая технология бродильных производств, лк.",null,null,null,"Назарова Ю.С.","215-2","Оценка воздействия на окружающую среду, лк.",null,null,null,"Крюковская Т.В.","603-2"]
[null,null,6,"числ.",null,null,null,"Информационные технологии,пр.","Ганак О.Б.","311-1",null,null,null,null,null,null,null,null,null,null,null,null,"Оценка воздействия на окружающую среду, лб.",null,null,null,"Крюковская Т.В.","2-ст."]
[null,null,null,"зн.",null,null,null,"Информационные технологии,пр.","Ганак О.Б.","311-1",null,null,null,null,null,null,null,null,null,null,null,null,"Этика и психология деловых отношений, лк.",null,null,null,"Грибановский С.П.","413-1"]
[null,null,7,"числ.",null,null,null,null,null,null,null,null,null,null,null,null,null,null,null,null,null,null,"Час информирования (1-я среда месяца)",null,null,null,null,"413-1"]
[null,null,null,"зн.",null,null,null,null,null,null,null,null,null,null,null,null,null,null,null,null,null,null,"Час информирования (1-я среда месяца)",null,null,null,null,"413-1"]
[null,null,8,"числ."," "]
[null,null,null,"зн."]
[null,"ЧЕТВЕРГ",1,"числ.",null,null,null,null,null,null,null,null,null,null,null,null,"Общая технология бродильных производств, пр.",null,null,null,"Назарова Ю.С.","215-2","Обращение с отходами, пр.",null,null,null,"Гапеева Т.М.","2-ст."]
[null,null,null,"зн.",null,null,null,null,null,null,null,null,null,null,null,null,"Технология хлебопекарного, макаронного и КП, лб.",null,null,null,"Нелюбина Е.В.","7-ст.","Обращение с отходами, пр.",null,null,null,"Гапеева Т.М.","2-ст."]
[null,null,2,"числ.","Физическая культура",null,null,null,null,null,"Экологическая токсикология, пр. (с 15.09)",null,null,null,"Картель Н.В.","614-2","Технология хлебопекарного, макаронного и КП, пр.",null,null,null,"Цедик О.Д.","110-2","Материаловедение и ТКМ, лк.",null,null,null,"Акулова И.В.","2-ст."]
[null,null,null,"зн.","Физическая культура",null,null,null,null,null,null,null,null,null,null,null,"Технология хлебопекарного, макаронного и КП, лб.",null,null,null,"Нелюбина Е.В.","7-ст.","Материаловедение и ТКМ, лк.",null,null,null,"Акулова И.В.","2-ст."]
[null,null,3,"числ.","Математический анализ, пр.",null,null,null,"Гребенцов Ю.М.","317-1","Физическая культура",null,null,null,null,null,"Экология предприятия, лк.",null,null,null,"Баитова С.Н.","2-ст.","Оценка воздействия на окружающую среду, пр.",null,null,null,"Крюковская Т.В.","603-2"]
[null,null,null,"зн.","Математический анализ, пр.",null,null,null,"Гребенцов Ю.М.","317-1","Физическая культура",null,null,null,null,null,"Экология предприятия, лк.",null,null,null,"Баитова С.Н.","2-ст.","Экономика и управление организацией, пр.",null,null,null,null,"1-ст."]
[null,null,4,"числ.","Механика. ТиМФ, лб.","Каранчук Д.Я.","420-1","Механика. ТиМФ, лб.","Скапцов А.С.","420-1","Правовые основы охраны окружающей среды,лк.",null,null,null,"Крюковская Т.В.","2-ст.","Физическая культура",null,null,null,null,null,"Экономика и управление организацией, лк.",null,null,null,null,"1-ст."]
[null,null,null,"зн.","Механика. ТиМФ, лб.","Каранчук Д.Я.","420-1","Механика. ТиМФ, лб.","Скапцов А.С.","420-1","Правовые основы охраны окружающей среды,лк.",null,null,null,"Крюковская Т.В.","2-ст.","Физическая культура",null,null,null,null,null,"Экономика и управление организацией, лк.",null,null,null,null,"1-ст."]
[null,null,5,"числ.",null,null,null,null,null,null,"Деловой иностранный язык, пр.(англ.)","Романова Н.Г.","122-1",null,null,null,"Час информирования (3-й четверг месяца)",null,null,null,null,"11-ст."]
[null,null,null,"зн.","История белорусского государства, пр.",null,null,null,"Пушкин И.А.","413-1",null,null,null,null,null,null,"Час информирования (3-й четверг месяца)",null,null,null,null,"11-ст.","Охрана труда на ППП, пр.",null,null,null,"Цап В.Н.","414-1"]
[null,null,6,"числ."]
[null,null,null,"зн."]
[null,null,7,"числ."]
[null,null,null,"зн."]
[null,null,8,"числ."]
[null,null,null,"зн."]
[null,"ПЯТНИЦА",1,"числ.",null,null,null,"Иностранный язык, пр. ","Березнева О.Л.","122-1",null,null,null,null,null,null,null,null,null,null,null,null,"Материаловедение и ТКМ, лк.",null,null,null,"Акулова И.В.","2-ст."]
[null,null,null,"зн.",null,null,null,null,null,null,"Физическая и коллоидная химия, лб.",null,null,null,"Дудкина Е.Н.","409-2",null,null,null,null,null,null,"Материаловедение и ТКМ, лб.",null,null,null,"Акулова И.В.","2-ст."]
[null,null,2,"числ.","Механика. Термодинамика и молекулярная физика, лк.",null,null,null,"Каранчук Д.Я.","414-1",null,null,null,null,null,null,"Методы исследований и анализа объектов окружающей среды, лб.",null,null,null,null,"218-2","Технология мясной промышленности, пр.",null,null,null,"Березнева Т.В.","121-2"]
[null,null,null,"зн.","Механика. Термодинамика и молекулярная физика, лк.",null,null,null,"Каранчук Д.Я.","414-1","Физическая и коллоидная химия, лб.",null,null,null,"Дудкина Е.Н.","409-2","Методы исследований и анализа объектов окружающей среды, лк",null,null,null,null,"618-2","Материаловедение и ТКМ, лб.",null,null,null,"Акулова И.В.","2-ст."]
[null,null,3,"числ.","Математический анализ, лк.",null,null,null,"Гребенцов Ю.М.","317-1","Физическая и коллоидная химия, лк.",null,null,null,"Дудкина Е.Н.","409-2","Основы управления интеллектуальной собственностью, лк.",null,null,null,"Пушкин И.А.","413-1","Технология молочной промышленности, лк.",null,null,null,"Павлистова Н.А.","305а-2"]
[null,null,null,"зн.","Биология, пр.",null,null,null,"Липская Д.А.","2-ст.","Физическая и коллоидная химия, лк.",null,null,null,"Дудкина Е.Н.","409-2","Основы управления интеллектуальной собственностью,  пр.",null,null,null,"Пушкин И.А.","413-1","Технология молочной промышленности,лк.",null,null,null,"Павлистова Н.А.","305а-2"]
[null,null,4,"числ.","Информ. технологии, пр.","Ганак О.Б.","308-1",null,null,null,"Деловой иностранный язык, пр.(ф)","Романова Н.Г.","122-1","Деловой иностранный язык, пр.(ф)","Пайкина А.Р.","315-1","Основы и системы менеджмента, лк.",null,null,null,"Картель Н.В.","305а-2","Охрана труда на ППП, лк.",null,null,null,"Цап В.Н.","218-2"]
[null,null,null,"зн.",null,null,null,"Информ. технологии, пр.","Ганак О.Б.","308-1","Деловой иностранный язык, пр.(ф)","Романова Н.Г.","122-1","Деловой иностранный язык, пр.(ф)","Пайкина А.Р.","315-1","Основы и системы менеджмента, лк.",null,null,null,"Картель Н.В.","305а-2","Охрана труда на ППП, лк.",null,null,null,"Цап В.Н.","218-2"]
[null,null,5,"числ.","Час информирования (1-я пятница месяца)",null,null,null,null,"405а-2","Час информирования (2-я пятница месяца)",null,null,null,null,"405а-2","Мониторинг окр. среды, лк. (2-9н.)","Липская Д.А.","218-2","Мониторинг окр. среды, лб. (с 10н.)","Липская Д.А.","218-2"]
[null,null,null,"зн.","Час информирования (1-я пятница месяца)",null,null,null,null,"405а-2","Час информирования (2-я пятница месяца)",null,null,null,null,"405а-2","Мониторинг окр. среды, лк. (2-9н.)","Липская Д.А.","218-2","Мониторинг окр. среды, лб. (с 10н.)","Липская Д.А.","218-2"]
[null,null,6,"числ.",null,null,null,null,null,null,null,null,null,null,null,null,"Мониторинг окр. среды, лк. (2-9н.)","Липская Д.А.","218-2","Мониторинг окр. среды, лб. (с 10н.)","Липская Д.А.","218-2"]
[null,null,null,"зн.",null,null,null,null,null,null,null,null,null,null,null,null,"Мониторинг окр. среды, лк. (2-9н.)","Липская Д.А.","218-2","Мониторинг окр. среды, лб. (с 10н.)","Липская Д.А.","218-2"]
[null,null,7,"числ.",null,null,null,null,null,null,null,null,null,null,null,null,null,null,null,"Мониторинг окр. среды, лб. (с 10н.)","Липская Д.А.","218-2"]
[null,null,null,"зн.",null,null,null,null,null,null,null,null,null,null,null,null,null,null,null,"Мониторинг окр. среды, лб. (с 10н.)","Липская Д.А.","218-2"]
[null,null,8,"числ."]
[null,null,null,"зн."]
[null,"СУББОТА",1,"числ."]
[null,null,null,"зн.",null,null,null,null,null,null,null,null,null,null,null,null,null,null,null,null,null,null,"День"]
[null,null,2,"числ.",null,null,null,null,null,null,"Этика и эстетика, лк.",null,null,null,"Юдин В.В.","401-1"]
[null,null,null,"зн.",null,null,null,null,null,null,null,null,null,null,null,null,"Социология управления, лк.",null,null,null,"Грибановский С.П.","401-1"]
[null,null,3,"числ.","Информ. технологии, пр.","Ганак О.Б.","311-1",null,null,null,"Этика и эстетика, пр.",null,null,null,"Юдин В.В.","401-1",null,null,null,null,null,null,"курсового"]
[null,null,null,"зн.","Информ. технологии, пр.","Ганак О.Б.","311-1",null,null,null,null,null,null,null,null,null,"Социология управления, пр.",null,null,null,"Грибановский С.П.","401-1"]
[null,null,4,"числ.","Информационные технологии, лк. (1-8 н.)",null,null,null,"Ганак О.Б.","311-1"]
[null,null,null,"зн.","Информационные технологии, лк. (1-8 н.)",null,null,null,"Ганак О.Б.","311-1"]
[null,null,5,"числ.",null,null,null,null,null,null,null,null,null,null,null,null,null,null,null,null,null,null,"проектирования"]
[null,null,null,"зн."]
[null,null,6,"числ."]
[null,null,null,"зн."]
[null,null,7,"числ."]
[null,null,null,"зн."]
[null,null,8,"числ."]
[null,null,null,"зн."]
[]
[null,null,null,"ПЕРВЫЙ ПРОРЕКТОР",null,null,null,null,null,null,null,null,null,null,null,null,"ДЕКАН",null,null,"ЗАМЕСТИТЕЛЬ НАЧАЛЬНИКА УМО",null,null,null,null,null,null,null,null,null,"ДЕКАН",null,"ЗАМЕСТИТЕЛЬ НАЧАЛЬНИКА УМО"]
[]
[]
[]
[]
[]
[]
[]
[]
[null,null,null,null,{"$f":"#REF!","v":{"$error":"#REF!"}},{"$f":"#REF!","v":{"$error":"#REF!"}},{"$f":"#REF!","v":{"$error":"#REF!"}},{"$f":"#REF!","v":{"$error":"#REF!"}},{"$f":"#REF!","v":{"$error":"#REF!"}},{"$f":"#REF!","v":{"$error":"#REF!"}},{"$f":"#REF!","v":{"$error":"#REF!"}},{"$f":"#REF!","v":{"$error":"#REF!"}},{"$f":"#REF!","v":{"$error":"#REF!"}},{"$f":"#REF!","v":{"$error":"#REF!"}},{"$f":"#REF!","v":{"$error":"#REF!"}},{"$f":"#REF!","v":{"$error":"#REF!"}},{"$f":"#REF!","v":{"$error":"#REF!"}},{"$f":"#REF!","v":{"$error":"#REF!"}},{"$f":"#REF!","v":{"$error":"#REF!"}},{"$f":"#REF!","v":{"$error":"#REF!"}},{"$f":"#REF!","v":{"$error":"#REF!"}},{"$f":"#REF!","v":{"$error":"#REF!"}},{"$f":"#REF!","v":{"$error":"#REF!"}},{"$f":"#REF!","v":{"$error":"#REF!"}},{"$f":"#REF!","v":{"$error":"#REF!"}},{"$f":"#REF!","v":{"$error":"#REF!"}},{"$f":"#REF!","v":{"$error":"#REF!"}},{"$f":"#REF!","v":{"$error":"#REF!"}},{"$f":"#REF!","v":{"$error":"#REF!"}},{"$f":"#REF!","v":{"$error":"#REF!"}},{"$f":"#REF!","v":{"$error":"#REF!"}},{"$f":"#REF!","v":{"$error":"#REF!"}},{"$f":"#REF!","v":{"$error":"#REF!"}},{"$f":"#REF!","v":{"$error":"#REF!"}},{"$f":"#REF!","v":{"$error":"#REF!"}},{"$f":"#REF!","v":{"$error":"#REF!"}},{"$f":"#REF!","v":{"$error":"#REF!"}},{"$f":"#REF!","v":{"$error":"#REF!"}},{"$f":"#REF!","v":{"$error":"#REF!"}},{"$f":"#REF!","v":{"$error":"#REF!"}},null,{"$f":"#REF!","v":{"$error":"#REF!"}},{"$f":"#REF!","v":{"$error":"#REF!"}},{"$f":"#REF!","v":{"$error":"#REF!"}},{"$f":"#REF!","v":{"$error":"#REF!"}},{"$f":"#REF!","v":{"$error":"#REF!"}},null,null,null,null,null,null,{"$f":"#REF!","v":{"$error":"#REF!"}},{"$f":"#REF!","v":{"$error":"#REF!"}},{"$f":"#REF!","v":{"$error":"#REF!"}},{"$f":"#REF!","v":{"$error":"#REF!"}},{"$f":"#REF!","v":{"$error":"#REF!"}},{"$f":"#REF!","v":{"$error":"#REF!"}},{"$f":"#REF!","v":{"$error":"#REF!"}},{"$f":"#REF!","v":{"$error":"#REF!"}},{"$f":"#REF!","v":{"$error":"#REF!"}},{"$f":"#REF!","v":{"$error":"#REF!"}},{"$f":"#REF!","v":{"$error":"#REF!"}},{"$f":"#REF!","v":{"$error":"#REF!"}},{"$f":"#REF!","v":{"$error":"#REF!"}},{"$f":"#REF!","v":{"$error":"#REF!"}},{"$f":"#REF!","v":{"$error":"#REF!"}},{"$f":"#REF!","v":{"$error":"#REF!"}},{"$f":"#REF!","v":{"$error":"#REF!"}},{"$f":"#REF!","v":{"$error":"#REF!"}},{"$f":"#REF!","v":{"$error":"#REF!"}},{"$f":"#REF!","v":{"$error":"#REF!"}},{"$f":"#REF!","v":{"$error":"#REF!"}},{"$f":"#REF!","v":{"$error":"#REF!"}},{"$f":"#REF!","v":{"$error":"#REF!"}},{"$f":"#REF!","v":{"$error":"#REF!"}},{"$f":"#REF!","v":{"$error":"#REF!"}},{"$f":"#REF!","v":{"$error":"#REF!"}},{"$f":"#REF!","v":{"$error":"#REF!"}},{"$f":"#REF!","v":{"$error":"#REF!"}},{"$f":"#REF!","v":{"$error":"#REF!"}},{"$f":"#REF!","v":{"$error":"#REF!"}},{"$f":"#REF!","v":{"$error":"#REF!"}},{"$f":"#REF!","v":{"$error":"#REF!"}},{"$f":"#REF!","v":{"$error":"#REF!"}},{"$f":"#REF!","v":{"$error":"#REF!"}},{"$f":"#REF!","v":{"$error":"#REF!"}},{"$f":"#REF!","v":{"$error":"#REF!"}},{"$f":"#REF!","v":{"$error":"#REF!"}},{"$f":"#REF!","v":{"$error":"#REF!"}},{"$f":"#REF!","v":{"$error":"#REF!"}},{"$f":"#REF!","v":{"$error":"#REF!"}},{"$f":"#REF!","v":{"$error":"#REF!"}},{"$f":"#REF!","v":{"$error":"#REF!"}},{"$f":"#REF!","v":{"$error":"#REF!"}},{"$f":"#REF!","v":{"$error":"#REF!"}},{"$f":"#REF!","v":{"$error":"#REF!"}},{"$f":"#REF!","v":{"$error":"#REF!"}},{"$f":"#REF!","v":{"$error":"#REF!"}},{"$f":"#REF!","v":{"$error":"#REF!"}},{"$f":"#REF!","v":{"$error":"#REF!"}},{"$f":"#REF!","v":{"$error":"#REF!"}},{"$f":"#REF!","v":{"$error":"#REF!"}},{"$f":"#REF!","v":{"$error":"#REF!"}},{"$f":"#REF!","v":{"$error":"#REF!"}},{"$f":"#REF!","v":{"$error":"#REF!"}},{"$f":"#REF!","v":{"$error":"#REF!"}},{"$f":"#REF!","v":{"$error":"#REF!"}},{"$f":"#REF!","v":{"$error":"#REF!"}},{"$f":"#REF!","v":{"$error":"#REF!"}},{"$f":"#REF!","v":{"$error":"#REF!"}},{"$f":"#REF!","v":{"$error":"#REF!"}},{"$f":"#REF!","v":{"$error":"#REF!"}},{"$f":"#REF!","v":{"$error":"#REF!"}},{"$f":"#REF!","v":{"$error":"#REF!"}},{"$f":"#REF!","v":{"$error":"#REF!"}},{"$f":"#REF!","v":{"$error":"#REF!"}},{"$f":"#REF!","v":{"$error":"#REF!"}},{"$f":"#REF!","v":{"$error":"#REF!"}},{"$f":"#REF!","v":{"$error":"#REF!"}},{"$f":"#REF!","v":{"$error":"#REF!"}},{"$f":"#REF!","v":{"$error":"#REF!"}},{"$f":"#REF!","v":{"$error":"#REF!"}},{"$f":"#REF!","v":{"$error":"#REF!"}},{"$f":"#REF!","v":{"$error":"#REF!"}},{"$f":"#REF!","v":{"$error":"#REF!"}},{"$f":"#REF!","v":{"$error":"#REF!"}},{"$f":"#REF!","v":{"$error":"#REF!"}},{"$f":"#REF!","v":{"$error":"#REF!"}},{"$f":"#REF!","v":{"$error":"#REF!"}},{"$f":"#REF!","v":{"$error":"#REF!"}},{"$f":"#REF!","v":{"$error":"#REF!"}},{"$f":"#REF!","v":{"$error":"#REF!"}},{"$f":"#REF!","v":{"$error":"#REF!"}},{"$f":"#REF!","v":{"$error":"#REF!"}},{"$f":"#REF!","v":{"$error":"#REF!"}},{"$f":"#REF!","v":{"$error":"#REF!"}},{"$f":"#REF!","v":{"$error":"#REF!"}},{"$f":"#REF!","v":{"$error":"#REF!"}},{"$f":"#REF!","v":{"$error":"#REF!"}},{"$f":"#REF!","v":{"$error":"#REF!"}},{"$f":"#REF!","v":{"$error":"#REF!"}},{"$f":"#REF!","v":{"$error":"#REF!"}},{"$f":"#REF!","v":{"$error":"#REF!"}},{"$f":"#REF!","v":{"$error":"#REF!"}},{"$f":"#REF!","v":{"$error":"#REF!"}},{"$f":"#REF!","v":{"$error":"#REF!"}},{"$f":"#REF!","v":{"$error":"#REF!"}},{"$f":"#REF!","v":{"$error":"#REF!"}},{"$f":"#REF!","v":{"$error":"#REF!"}},{"$f":"#REF!","v":{"$error":"#REF!"}},{"$f":"#REF!","v":{"$error":"#REF!"}},{"$f":"#REF!","v":{"$error":"#REF!"}},{"$f":"#REF!","v":{"$error":"#REF!"}},{"$f":"#REF!","v":{"$error":"#REF!"}},{"$f":"#REF!","v":{"$error":"#REF!"}},{"$f":"#REF!","v":{"$error":"#REF!"}},{"$f":"#REF!","v":{"$error":"#REF!"}},{"$f":"#REF!","v":{"$error":"#REF!"}},{"$f":"#REF!","v":{"$error":"#REF!"}},{"$f":"#REF!","v":{"$error":"#REF!"}},{"$f":"#REF!","v":{"$error":"#REF!"}},{"$f":"#REF!","v":{"$error":"#REF!"}},{"$f":"#REF!","v":{"$error":"#REF!"}},{"$f":"#REF!","v":{"$error":"#REF!"}},{"$f":"#REF!","v":{"$error":"#REF!"}},{"$f":"#REF!","v":{"$error":"#REF!"}},{"$f":"#REF!","v":{"$error":"#REF!"}},{"$f":"#REF!","v":{"$error":"#REF!"}},{"$f":"#REF!","v":{"$error":"#REF!"}},{"$f":"#REF!","v":{"$error":"#REF!"}},{"$f":"#REF!","v":{"$error":"#REF!"}},{"$f":"#REF!","v":{"$error":"#REF!"}},{"$f":"#REF!","v":{"$error":"#REF!"}},{"$f":"#REF!","v":{"$error":"#REF!"}},{"$f":"#REF!","v":{"$error":"#REF!"}},{"$f":"#REF!","v":{"$error":"#REF!"}},{"$f":"#REF!","v":{"$error":"#REF!"}},{"$f":"#REF!","v":{"$error":"#REF!"}},{"$f":"#REF!","v":{"$error":"#REF!"}},{"$f":"#REF!","v":{"$error":"#REF!"}},{"$f":"#REF!","v":{"$error":"#REF!"}},{"$f":"#REF!","v":{"$error":"#REF!"}},{"$f":"#REF!","v":{"$error":"#REF!"}},{"$f":"#REF!","v":{"$error":"#REF!"}},{"$f":"#REF!","v":{"$error":"#REF!"}},{"$f":"#REF!","v":{"$error":"#REF!"}},{"$f":"#REF!","v":{"$error":"#REF!"}},{"$f":"#REF!","v":{"$error":"#REF!"}},{"$f":"#REF!","v":{"$error":"#REF!"}},{"$f":"#REF!","v":{"$error":"#REF!"}},{"$f":"#REF!","v":{"$error":"#REF!"}},{"$f":"#REF!","v":{"$error":"#REF!"}},{"$f":"#REF!","v":{"$error":"#REF!"}},{"$f":"#REF!","v":{"$error":"#REF!"}},{"$f":"#REF!","v":{"$error":"#REF!"}},{"$f":"#REF!","v":{"$error":"#REF!"}},{"$f":"#REF!","v":{"$error":"#REF!"}},{"$f":"#REF!","v":{"$error":"#REF!"}},{"$f":"#REF!","v":{"$error":"#REF!"}},{"$f":"#REF!","v":{"$error":"#REF!"}},{"$f":"#REF!","v":{"$error":"#REF!"}},{"$f":"#REF!","v":{"$error":"#REF!"}},{"$f":"#REF!","v":{"$error":"#REF!"}},{"$f":"#REF!","v":{"$error":"#REF!"}},{"$f":"#REF!","v":{"$error":"#REF!"}},{"$f":"#REF!","v":{"$error":"#REF!"}},{"$f":"#REF!","v":{"$error":"#REF!"}},{"$f":"#REF!","v":{"$error":"#REF!"}},{"$f":"#REF!","v":{"$error":"#REF!"}},{"$f":"#REF!","v":{"$error":"#REF!"}},{"$f":"#REF!","v":{"$error":"#REF!"}},{"$f":"#REF!","v":{"$error":"#REF!"}},{"$f":"#REF!","v":{"$error":"#REF!"}},{"$f":"#REF!","v":{"$error":"#REF!"}},{"$f":"#REF!","v":{"$error":"#REF!"}},{"$f":"#REF!","v":{"$error":"#REF!"}},{"$f":"#REF!","v":{"$error":"#REF!"}},{"$f":"#REF!","v":{"$error":"#REF!"}},{"$f":"#REF!","v":{"$error":"#REF!"}},{"$f":"#REF!","v":{"$error":"#REF!"}},{"$f":"#REF!","v":{"$error":"#REF!"}},{"$f":"#REF!","v":{"$error":"#REF!"}},{"$f":"#REF!","v":{"$error":"#REF!"}},{"$f":"#REF!","v":{"$error":"#REF!"}},{"$f":"#REF!","v":{"$error":"#REF!"}},{"$f":"#REF!","v":{"$error":"#REF!"}},{"$f":"#REF!","v":{"$error":"#REF!"}},{"$f":"#REF!","v":{"$error":"#REF!"}},{"$f":"#REF!","v":{"$error":"#REF!"}},{"$f":"#REF!","v":{"$error":"#REF!"}},{"$f":"#REF!","v":{"$error":"#REF!"}},{"$f":"#REF!","v":{"$error":"#REF!"}},{"$f":"#REF!","v":{"$error":"#REF!"}},{"$f":"#REF!","v":{"$error":"#REF!"}},{"$f":"#REF!","v":{"$error":"#REF!"}},{"$f":"#REF!","v":{"$error":"#REF!"}},{"$f":"#REF!","v":{"$error":"#REF!"}},{"$f":"#REF!","v":{"$error":"#REF!"}},{"$f":"#REF!","v":{"$error":"#REF!"}},{"$f":"#REF!","v":{"$error":"#REF!"}},{"$f":"#REF!","v":{"$error":"#REF!"}},{"$f":"#REF!","v":{"$error":"#REF!"}},{"$f":"#REF!","v":{"$error":"#REF!"}},{"$f":"#REF!","v":{"$error":"#REF!"}},{"$f":"#REF!","v":{"$error":"#REF!"}},{"$f":"#REF!","v":{"$error":"#REF!"}},{"$f":"#REF!","v":{"$error":"#REF!"}},{"$f":"#REF!","v":{"$error":"#REF!"}},{"$f":"#REF!","v":{"$error":"#REF!"}},{"$f":"#REF!","v":{"$error":"#REF!"}},{"$f":"#REF!","v":{"$error":"#REF!"}},{"$f":"#REF!","v":{"$error":"#REF!"}},{"$f":"#REF!","v":{"$error":"#REF!"}},{"$f":"#REF!","v":{"$error":"#REF!"}},{"$f":"#REF!","v":{"$error":"#REF!"}},{"$f":"#REF!","v":{"$error":"#REF!"}},{"$f":"#REF!","v":{"$error":"#REF!"}},{"$f":"#REF!","v":{"$error":"#REF!"}},{"$f":"#REF!","v":{"$error":"#REF!"}},{"$f":"#REF!","v":{"$error":"#REF!"}},{"$f":"#REF!","v":{"$error":"#REF!"}},{"$f":"#REF!","v":{"$error":"#REF!"}},{"$f":"#REF!","v":{"$error":"#REF!"}},{"$f":"#REF!","v":{"$error":"#REF!"}},{"$f":"#REF!","v":{"$error":"#REF!"}},{"$f":"#REF!","v":{"$error":"#REF!"}},{"$f":"#REF!","v":{"$error":"#REF!"}},{"$f":"#REF!","v":{"$error":"#REF!"}},{"$f":"#REF!","v":{"$error":"#REF!"}},{"$f":"#REF!","v":{"$error":"#REF!"}},{"$f":"#REF!","v":{"$error":"#REF!"}},{"$f":"#REF!","v":{"$error":"#REF!"}},{"$f":"#REF!","v":{"$error":"#REF!"}},{"$f":"#REF!","v":{"$error":"#REF!"}},{"$f":"#REF!","v":{"$error":"#REF!"}},{"$f":"#REF!","v":{"$error":"#REF!"}},{"$f":"#REF!","v":{"$error":"#REF!"}},{"$f":"#REF!","v":{"$error":"#REF!"}},{"$f":"#REF!","v":{"$error":"#REF!"}},{"$f":"#REF!","v":{"$error":"#REF!"}},{"$f":"#REF!","v":{"$error":"#REF!"}},{"$f":"#REF!","v":{"$error":"#REF!"}},{"$f":"#REF!","v":{"$error":"#REF!"}},{"$f":"#REF!","v":{"$error":"#REF!"}},{"$f":"#REF!","v":{"$error":"#REF!"}},{"$f":"#REF!","v":{"$error":"#REF!"}},{"$f":"#REF!","v":{"$error":"#REF!"}},{"$f":"#REF!","v":{"$error":"#REF!"}},{"$f":"#REF!","v":{"$error":"#REF!"}},{"$f":"#REF!","v":{"$error":"#REF!"}},{"$f":"#REF!","v":{"$error":"#REF!"}},{"$f":"#REF!","v":{"$error":"#REF!"}},{"$f":"#REF!","v":{"$error":"#REF!"}},{"$f":"#REF!","v":{"$error":"#REF!"}},{"$f":"#REF!","v":{"$error":"#REF!"}},{"$f":"#REF!","v":{"$error":"#REF!"}},{"$f":"#REF!","v":{"$error":"#REF!"}},{"$f":"#REF!","v":{"$error":"#REF!"}},{"$f":"#REF!","v":{"$error":"#REF!"}},{"$f":"#REF!","v":{"$error":"#REF!"}},{"$f":"#REF!","v":{"$error":"#REF!"}},{"$f":"#REF!","v":{"$error":"#REF!"}},{"$f":"#REF!","v":{"$error":"#REF!"}},{"$f":"#REF!","v":{"$error":"#REF!"}},{"$f":"#REF!","v":{"$error":"#REF!"}},{"$f":"#REF!","v":{"$error":"#REF!"}},{"$f":"#REF!","v":{"$error":"#REF!"}},{"$f":"#REF!","v":{"$error":"#REF!"}},{"$f":"#REF!","v":{"$error":"#REF!"}},{"$f":"#REF!","v":{"$error":"#REF!"}},{"$f":"#REF!","v":{"$error":"#REF!"}},{"$f":"#REF!","v":{"$error":"#REF!"}},{"$f":"#REF!","v":{"$error":"#REF!"}},{"$f":"#REF!","v":{"$error":"#REF!"}},{"$f":"#REF!","v":{"$error":"#REF!"}},{"$f":"#REF!","v":{"$error":"#REF!"}},{"$f":"#REF!","v":{"$error":"#REF!"}},{"$f":"#REF!","v":{"$error":"#REF!"}},{"$f":"#REF!","v":{"$error":"#REF!"}},{"$f":"#REF!","v":{"$error":"#REF!"}},{"$f":"#REF!","v":{"$error":"#REF!"}},{"$f":"#REF!","v":{"$error":"#REF!"}},{"$f":"#REF!","v":{"$error":"#REF!"}},{"$f":"#REF!","v":{"$error":"#REF!"}},{"$f":"#REF!","v":{"$error":"#REF!"}},{"$f":"#REF!","v":{"$error":"#REF!"}},{"$f":"#REF!","v":{"$error":"#REF!"}},{"$f":"#REF!","v":{"$error":"#REF!"}}]